BEGIN:VCALENDAR
VERSION:2.0
PRODID:-//The Care Workers Charity trading as Care Workers Support - ECPv6.15.20//NONSGML v1.0//EN
CALSCALE:GREGORIAN
METHOD:PUBLISH
X-ORIGINAL-URL:https://www.thecareworkerscharity.org.uk
X-WR-CALDESC:Events for The Care Workers Charity trading as Care Workers Support
REFRESH-INTERVAL;VALUE=DURATION:PT1H
X-Robots-Tag:noindex
X-PUBLISHED-TTL:PT1H
BEGIN:VTIMEZONE
TZID:Europe/London
BEGIN:DAYLIGHT
TZOFFSETFROM:+0000
TZOFFSETTO:+0100
TZNAME:BST
DTSTART:20250330T010000
END:DAYLIGHT
BEGIN:STANDARD
TZOFFSETFROM:+0100
TZOFFSETTO:+0000
TZNAME:GMT
DTSTART:20251026T010000
END:STANDARD
BEGIN:DAYLIGHT
TZOFFSETFROM:+0000
TZOFFSETTO:+0100
TZNAME:BST
DTSTART:20260329T010000
END:DAYLIGHT
BEGIN:STANDARD
TZOFFSETFROM:+0100
TZOFFSETTO:+0000
TZNAME:GMT
DTSTART:20261025T010000
END:STANDARD
BEGIN:DAYLIGHT
TZOFFSETFROM:+0000
TZOFFSETTO:+0100
TZNAME:BST
DTSTART:20270328T010000
END:DAYLIGHT
BEGIN:STANDARD
TZOFFSETFROM:+0100
TZOFFSETTO:+0000
TZNAME:GMT
DTSTART:20271031T010000
END:STANDARD
END:VTIMEZONE
BEGIN:VEVENT
DTSTART;VALUE=DATE:20261201
DTEND;VALUE=DATE:20270101
DTSTAMP:20260421T143043
CREATED:20251204T162910Z
LAST-MODIFIED:20251204T162910Z
UID:19134-1796083200-1798761599@www.thecareworkerscharity.org.uk
SUMMARY:Winter of Warmth
DESCRIPTION:[vc_row][vc_column][vc_column_text] \nEnd the year with kindness\, gratitude\, and festive generosity. \nWinter of Warmth celebrates everyone who has supported The Care Workers’ Charity in 2026. With our 12 Days of Giving campaign\, Winter Prize Draw\, and Santa in the City Run\, there are countless ways to spread joy and make a difference. \nHow to Take Part\n\nSign up for your chosen festive fundraiser and download your seasonal event pack.\nPlan your winter activity — big or small — using our guides for festive fun.\nShare the warmth by inviting colleagues\, friends\, and family to join you.\nFundraise online\, at your festive event\, or through workplace giving.\n\nHow to Fundraise\nFestive fundraising is fun and flexible: \n\n12 Days of Giving Workplace Challenge – Invite colleagues to donate a small amount each day — from £1 to £12.\nFestive Bake Sale or Biscuit Swap- Raise funds through treats\, competitions\, or hot chocolate stations.\nWinter Prize Draw Ticket Sales- Share the link and encourage others to enter and support a great cause.\nChristmas Jumper Day- Ask participants to donate £2–£5 to wear their festive jumpers.\n\n  \nDownload our fundraising pack  \nDownload our ‘I’m Fundraising’ email banner \nDownload our ‘I’m Fundraising’ social media graphic \nDonate Here! \nOr connect your fundraising page to: Care Workers Support – JustGiving[/vc_column_text][/vc_column][/vc_row]
URL:https://www.thecareworkerscharity.org.uk/event/winter-of-warmth-festive-fundraising-winter-prize-draw/
LOCATION:Across the UK
ATTACH;FMTTYPE=image/png:https://www.thecareworkerscharity.org.uk/wp-content/uploads/2025/11/The-CWC-2026-Events-and-Campaigns-Leaflet-5.png
END:VEVENT
END:VCALENDAR